BEGIN:VCALENDAR
VERSION:2.0
PRODID:-// - ECPv6.15.17.1//NONSGML v1.0//EN
CALSCALE:GREGORIAN
METHOD:PUBLISH
X-ORIGINAL-URL:https://gvb-spes.es
X-WR-CALDESC:Eventos para 
REFRESH-INTERVAL;VALUE=DURATION:PT1H
X-Robots-Tag:noindex
X-PUBLISHED-TTL:PT1H
BEGIN:VTIMEZONE
TZID:UTC
BEGIN:STANDARD
TZOFFSETFROM:+0000
TZOFFSETTO:+0000
TZNAME:UTC
DTSTART:20250101T000000
END:STANDARD
END:VTIMEZONE
BEGIN:VEVENT
DTSTART;TZID=UTC:20260423T180000
DTEND;TZID=UTC:20260424T180000
DTSTAMP:20260424T072954
CREATED:20260202T095618Z
LAST-MODIFIED:20260202T095621Z
UID:3739-1776967200-1777053600@gvb-spes.es
SUMMARY:Reunión de la Sociedad de Neurofisiología Clínica de las Comunidades Valenciana y Murcia
DESCRIPTION:Se celebrará junto a la XIV Reunión de Enfermería en Neurofisiología Clínica los próximos 23 y 24 de abril de 2026 en el Hospital Universitari i Politècnic La Fe (Valencia).
URL:https://gvb-spes.es/event/reunion-de-la-sociedad-de-neurofisiologia-clinica-de-las-comunidades-valenciana-y-murcia/
ATTACH;FMTTYPE=image/jpeg:https://gvb-spes.es/wp-content/uploads/2026/02/image-480x676-1.jpg
END:VEVENT
BEGIN:VEVENT
DTSTART;TZID=UTC:20260528T080000
DTEND;TZID=UTC:20260530T170000
DTSTAMP:20260424T072954
CREATED:20260202T095855Z
LAST-MODIFIED:20260202T095857Z
UID:3742-1779955200-1780160400@gvb-spes.es
SUMMARY:X Congreso Anual de la Asociación de Monitorización Intraquirúrgica Neurofisiológica Española (AMINE)
DESCRIPTION:
URL:https://gvb-spes.es/event/x-congreso-anual-de-la-asociacion-de-monitorizacion-intraquirurgica-neurofisiologica-espanola-amine/
ATTACH;FMTTYPE=application/pdf:https://gvb-spes.es/wp-content/uploads/2026/02/Cartel-AMINE-2026.pdf
END:VEVENT
END:VCALENDAR